BEGIN:VCALENDAR
VERSION:2.0
PRODID:-//Archiformazione
CALSCALE:GREGORIAN
METHOD:PUBLISH
X-WR-CALNAME:Archiformazione
X-ORIGINAL-URL:https://archiformazione.it/shop/MB165646/
X-WR-CALDESC:CONTRATTI E COMPENSI: IL RAPPORTO PROFESSIONISTA/COMMITTENTE (cod. MB165646)
BEGIN:VEVENT
DTSTART:20220521T100000
DTEND:20220521T120000
SUMMARY:CONTRATTI E COMPENSI: IL RAPPORTO PROFESSIONISTA/COMMITTENTE (cod. MB165646)
DESCRIPTION:<strong>CICLO DI INCONTRI AVVIO ALLA PROFESSIONE</strong>
<p style="font-weight: 400;">La commissione “<strong>Giovani e Università</strong>”, unitamente a tutto l’Ordine degli architetti pianificatori, paesaggisti e conservatori della provincia di Monza e Brianza, invita i giovani iscritti ad un ciclo di  incontri dedicati alle tematiche relative all’avvio della professione.</p>
<p style="font-weight: 400;">L’obiettivo dell’incontro è quello di fornire al giovane architetto informazioni utili in merito alle parcelle, ai contratti e alle responsabilità connesse alla professione, attraverso l’analisi dei contenuti minimi del contratto tra professionista e committente e le diverse tipologie di calcolo tariffario per l’onorario.</p>
<p style="font-weight: 400;"><strong>Relatore</strong>: arch. <strong>Corrado Spinelli</strong>, Presidente commissione Contratti e compensi dell’OAPPC MB | avv. <strong>Piero Oggioni</strong>, consulente legale dell’OAPPC MB</p>
LOCATION:
END:VEVENT
END:VCALENDAR
