BEGIN:VCALENDAR
VERSION:2.0
PRODID:-//Archiformazione
CALSCALE:GREGORIAN
METHOD:PUBLISH
X-WR-CALNAME:Archiformazione
X-ORIGINAL-URL:https://archiformazione.it/shop/BO167847/
X-WR-CALDESC:DIGITAL TRANSFORMATION DAYS &#8211; One Team BIM Conference 2022 (cod. BO167847)
BEGIN:VEVENT
DTSTART:20220616T100000
DTEND:20220616T173000
SUMMARY:DIGITAL TRANSFORMATION DAYS &#8211; One Team BIM Conference 2022 (cod. BO167847)
DESCRIPTION:Il 16 giugno sarà una giornata densa di discussioni, con interventi di esperti appartenenti a diversi ambiti del settore: imprese di costruzioni, stazioni appaltanti, associazioni.

I lavori cominceranno alle <strong>10.00</strong> con la prima sessione: “<strong>Costruiamo un nuovo mondo: collaborazione digitale e sostenibile</strong>”. Seguirà poi una pausa per poi riprendere con la seconda tranche: “<strong>Costruiamo un nuovo mondo: per una sinergia più efficace fra progettazione e cantiere</strong>”. La chiusura dei lavori sarà alle ore <strong>17.30</strong>.

Tematiche fulcro dell’evento saranno la <strong>digitalizzazione</strong>, la <strong>sostenibilità</strong> e la <strong>collaborazione nel mondo della progettazione e delle costruzioni</strong>. Ci saranno ospiti autorevoli quali speaker di ACEA, ANAS e altre realtà di grande dinamismo e spinta all’innovazione come GP Project. Le tavole rotonde vedranno coinvolte diverse associazioni di settore che metteranno in campo nuovi scenari.

<strong>&gt;</strong> <a href="https://archiformazione.it/wp-content/uploads/2022/05/Locandina_BIM-Conference.pdf" target="_blank" rel="noopener"><strong>SCARICA PROGRAMMA</strong></a>
LOCATION:
END:VEVENT
END:VCALENDAR
