BEGIN:VCALENDAR
VERSION:2.0
PRODID:-//Archiformazione
CALSCALE:GREGORIAN
METHOD:PUBLISH
X-WR-CALNAME:Archiformazione
X-ORIGINAL-URL:https://archiformazione.it/shop/BO175456/
X-WR-CALDESC:Ambienti sospetti di inquinamento e/o confinanti (cod. BO175456)
BEGIN:VEVENT
DTSTART:20221123T160000
DTEND:20221123T190000
SUMMARY:Ambienti sospetti di inquinamento e/o confinanti (cod. BO175456)
DESCRIPTION:<strong>Valido come aggiornamento obbligatorio D.Lgs 81-2008 e validi sia come aggiornamento periodico per coordinatori della sicurezza sia come aggiornamento RSPP/ASPP.</strong>

Gli ambienti confinati impariamo a riconoscerli. La normativa di riferimento, l’identificazione di un ambiente confinato e la gestione degli interventi.

<strong>Relatore</strong>: Dott. Geometra Claudio Magnani
LOCATION:
END:VEVENT
END:VCALENDAR
