BEGIN:VCALENDAR
VERSION:2.0
PRODID:-//Archiformazione
CALSCALE:GREGORIAN
METHOD:PUBLISH
X-WR-CALNAME:Archiformazione
X-ORIGINAL-URL:https://archiformazione.it/shop/AF1-268794/
X-WR-CALDESC:Linee trasversali. Viaggio nel sistema design: Stone italiana (cod. AF1-268794)
BEGIN:VEVENT
DTSTART:20240312T160000
DTEND:20240312T180000
SUMMARY:Linee trasversali. Viaggio nel sistema design: Stone italiana (cod. AF1-268794)
DESCRIPTION:<strong>Obiettivo formativo:</strong>

L’obbiettivo di linee trasversali è quello di fornire agli Architetti una visuale sul mondo del Design; fornire agli Architetti uno strumento di conoscenza e crescita; generare un luogo di fiducia in cui tornare per crescere; fornire una formula didattica interessante e capace di intrattenere.
Incontri/visite/interviste guidate da Lorenzo Palmeri.
Presentazione dei progetti dei designer o dell’azienda in forma di lezione frontale del designer stesso o del referente aziendale in dialogo con <strong>Lorenzo Palmeri</strong>.

<strong>Programma:
</strong>
<ul>
 	<li>Incontro con l’azienda “Stone Italiana”.</li>
 	<li>Viaggio, racconto e intervista sugli aspetti progettuali e di visione dell’azienda. Visita alla fabbrica e nei laboratori.</li>
</ul>
<strong>Relatore:</strong>
<ul>
 	<li>Arch. Lorenzo Palmeri</li>
</ul>
LOCATION:
END:VEVENT
END:VCALENDAR
