BEGIN:VCALENDAR
VERSION:2.0
PRODID:-//Archiformazione
CALSCALE:GREGORIAN
METHOD:PUBLISH
X-WR-CALNAME:Archiformazione
X-ORIGINAL-URL:https://archiformazione.it/shop/MB313074/
X-WR-CALDESC:Il ruolo del tecnico competente in acustica nel 2025 (cod. MB313074)
BEGIN:VEVENT
DTSTART:20241204T143000
DTEND:20241204T173000
SUMMARY:Il ruolo del tecnico competente in acustica nel 2025 (cod. MB313074)
DESCRIPTION:<p style="font-weight: 400;"><strong>PRESENTAZIONE DEL MODULO</strong></p>
<p style="font-weight: 400;">Il corso è l’occasione per fare il punto sul mondo dell’acustica in edilizia.</p>
<p style="font-weight: 400;">L’iniziativa si rivolge ai progettisti e direttori lavori che vogliono approfondire gli adempimenti richiesti per le pratiche edilizie di Regione Lombardia ed a tutti coloro che vogliono diventare Tecnici Competenti in Acustica.</p>
<p style="font-weight: 400;">Durante la trattazione si affronteranno le seguenti domande:</p>

<ul style="font-weight: 400;">
 	<li>Quali sono le relazioni di acustica richieste ai professionisti?</li>
 	<li>Quali i limiti di legge da rispettare, alla luce della più recente modulistica regionale?</li>
 	<li>Cosa possono chiedere il Comune e il committente in caso di nuova costruzione o ristrutturazione?</li>
 	<li>Qual è il ruolo del Tecnico Competente in Acustica?</li>
</ul>
<p style="font-weight: 400;"><strong>PROGRAMMA</strong></p>

<ul style="font-weight: 400;">
 	<li>Le richieste della pubblica amministrazione per relazioni acustiche (clima, impatto acustico e requisiti acustici passivi)</li>
 	<li>I requisiti acustici passivi definiti nel DPCM 05/12/1997 e nel decreto CAM (appalti pubblici)</li>
 	<li>Le prescrizioni nelle ristrutturazioni</li>
 	<li>La classificazione acustica nelle unità immobiliari</li>
 	<li>Il ruolo del Tecnico Competente in Acustica per analisi previsionali, controlli in cantiere e misure in opera</li>
</ul>
<p style="font-weight: 400;">Durante il seminario verrà illustrato e presentato il corso per l’abilitazione di Tecnico Competente in Acustica della durata di 120 ore da marzo a dicembre 2025</p>
<p style="font-weight: 400;"><strong>RELATORE</strong></p>
<p style="font-weight: 400;">ing. MATTEO BORGHI</p>
<p style="font-weight: 400;"><em>Ingegnere Edile, Tecnico Competente in Acustica, staff tecnico ANIT. Dal 2004 si occupa di acustica edilizia, sia come professionista che come referente per le attività ANIT, partecipando attivamente a tavoli normativi. Lavora per TEP srl società di ingegneria specializzata nella consulenza per l’efficienza energetica e l’isolamento acustico degli edifici.</em></p>
PER IL WEBINAR SONO STATI RILASCIATI DAL CNAPPC (architetti, p.p.c.) n° 3 CFP
<p style="font-weight: 400;"><em>Ricordiamo che i CFP verranno inseriti direttamente dalla Segreteria dell'Ordine di Monza e Brianza in Piattaforma formativa entro 30 giorni dall'erogazione dell'evento.</em></p>
LOCATION:
END:VEVENT
END:VCALENDAR
