BEGIN:VCALENDAR
VERSION:2.0
PRODID:-//Archiformazione
CALSCALE:GREGORIAN
METHOD:PUBLISH
X-WR-CALNAME:Archiformazione
X-ORIGINAL-URL:https://archiformazione.it/shop/TV42950/
X-WR-CALDESC:[TV42950] ARCHITETTURA E IMPRESA &#8211; UN&#8217;ALLEANZA PER IL BUON VIVERE DELLA COMUNITÀ
BEGIN:VEVENT
DTSTART:20180710T173000
DTEND:20180710T193000
SUMMARY:[TV42950] ARCHITETTURA E IMPRESA &#8211; UN&#8217;ALLEANZA PER IL BUON VIVERE DELLA COMUNITÀ
DESCRIPTION:Il seminario è <strong>GRATUITO</strong> per gli  iscritti agli <strong>Ordini degli Architetti del VENETO</strong>.  Per partecipare gratuitamente bisogna chiedere un <strong>Codice Coupon</strong> contattando la segreteria dell'Ordine APPCTV all'indirizzo mail <a href="mailto:architettitreviso@awn.it">architettitreviso@awn.it</a>.

Con <strong>PAO</strong> travelling exhibition il Premio di architettura città di Oderzo si presenta ai territori e ne incontra gli abitanti.

Le tappe della mostra itinerante dei progetti selezionati nella quindicesima edizione - emblema di riusciti sodalizi professionali tra committenza e professionisti - prevedono momenti di incontro per un approfondimento della cultura architettonica e per un confronto ampio sulla crescita delle nostre comunità fra tutti gli attori che vi contribuiscono.

Il primo appuntamento è previsto per <strong>Martedì 10 luglio</strong> alle ore <strong>17.30</strong> con un convegno pubblico presso <strong>Palazzo Giacomelli</strong> dal titolo:” Architettura e Impresa - un'alleanza per il buon vivere della Comunità”.
LOCATION:
END:VEVENT
END:VCALENDAR
