BEGIN:VCALENDAR
VERSION:2.0
PRODID:-//Archiformazione
CALSCALE:GREGORIAN
METHOD:PUBLISH
X-WR-CALNAME:Archiformazione
X-ORIGINAL-URL:https://archiformazione.it/shop/MB54982/
X-WR-CALDESC:[MB54982] EDIFICI IN LEGNO: SOLAI
BEGIN:VEVENT
DTSTART:20190328T160000
DTEND:20190328T180000
SUMMARY:[MB54982] EDIFICI IN LEGNO: SOLAI
DESCRIPTION:<strong>SEMINARIO</strong> <span style="color: #cc0000"><strong>GRATUITO</strong></span>!

L'obiettivo formativo è di trasmettere conoscenze tecniche dei <strong>SOLAI</strong> degli edifici in legno.
LOCATION:
END:VEVENT
END:VCALENDAR
