BEGIN:VCALENDAR
VERSION:2.0
PRODID:-//Archiformazione
CALSCALE:GREGORIAN
METHOD:PUBLISH
X-WR-CALNAME:Archiformazione
X-ORIGINAL-URL:https://archiformazione.it/shop/TV43614/
X-WR-CALDESC:[TV43614] ARCH_Talk duemiladiciannove | IN DIRETTA DALL&#8217;AUDITORIUM DI SANTA CATERINA
BEGIN:VEVENT
DTSTART:20190228T183000
DTEND:20190228T203000
SUMMARY:[TV43614] ARCH_Talk duemiladiciannove | IN DIRETTA DALL&#8217;AUDITORIUM DI SANTA CATERINA
DESCRIPTION:L’Ordine degli Architetti Pianificatori, Paesaggisti, Conservatori della Provincia di <strong>TREVISO</strong> apre ad una serie di incontri dedicati al futuro e al ruolo della professione all’interno dei processi progettuali contemporanei.

L’obbiettivo è costruire una piattaforma di scambio dove incontrare e sovrapporre le singole esperienze professionali, stabilire una forma di confronto attiva sul ruolo e le possibilità dell’architetto. Intendendo tali processi non come forme statiche e consolidate, ma come ricerche in mutazione
continua.

Il talk rappresenta una formula diretta di interazione, i singoli percorsi si dispiegano e raccontano nelle esperienze personali, ibridano quadri soggettivi con realtà condivise,
tracciano direzioni che possono diventare una mappa utile ad orientare le dinamiche professionali in corso.

<strong>DISCUSSANT: DURISCH + NOLLI  | GIOVANNI CORBELLINI</strong>

Questo seminario è <span style="color: #cc0000"><strong>GRATUITO</strong> </span>per gli iscritti agli <span style="color: #cc0000"><strong>Ordini degli Architetti del VENETO (FOAV)</strong></span>. Per le modalità e maggiori informazioni puoi contattare direttamente l’Ordine degli Architetti di <span style="color: #cc0000"><strong>TREVISO</strong></span>.
LOCATION:
END:VEVENT
END:VCALENDAR
