BEGIN:VCALENDAR
VERSION:2.0
PRODID:-//Archiformazione
CALSCALE:GREGORIAN
METHOD:PUBLISH
X-WR-CALNAME:Archiformazione
X-ORIGINAL-URL:https://archiformazione.it/shop/BO72098/
X-WR-CALDESC:[BO72098] RISCHI RUMORE, VIBRAZIONI, MICROCLIMA, ILLUMINAZIONE E CHIMICO
BEGIN:VEVENT
DTSTART:20200307T090000
DTEND:20200307T130000
SUMMARY:[BO72098] RISCHI RUMORE, VIBRAZIONI, MICROCLIMA, ILLUMINAZIONE E CHIMICO
DESCRIPTION:Aggiornamento per l'assolvimento dell'obbligo previsto per i <strong>COORDINATORI PER LA SICUREZZA</strong> nei Cantieri Temporanei e Mobili art. 98 - D.Lgs. 81/2008, valido anche per aggiornamento <strong>RSPP</strong>.

Il seminario è rivolto ai Coordinatori per la sicurezza in fase di progettazione ed esecuzione dei lavori (<strong>CSP</strong> e <strong>CSE</strong> che hanno conseguito l'abilitazione ai sensi dell'ex d.lgs 494/96), e che devono assolvere l'obbligo quinquennale di aggiornamento, previsto dall'art. 98 e dall'Allegato XIV al D. Lgs. 81/08.

Il seminario è conforme a quanto previsto dall'Accordo Stato e Regioni del 7 luglio 2016 e pertanto la formazione per l'aggiornamento del <strong>CSE</strong> è valida anche come aggiornamento per <strong>RSPP</strong> ai sensi del d.lgs. 81/08 e s.m.i.

La lezione pertanto è strutturata per dare significative nozioni utili a gestire le situazioni in entrambi i ruoli.

<strong>PROGRAMMA</strong>:
<ul>
 	<li>I rischi fisici: rumore, vibrazioni, microclima, illuminazione</li>
 	<li>I rischi chimici in cantiere</li>
 	<li>Domande &amp; Risposte</li>
</ul>
LOCATION:
END:VEVENT
END:VCALENDAR
