BEGIN:VCALENDAR
VERSION:2.0
PRODID:-//Archiformazione
CALSCALE:GREGORIAN
METHOD:PUBLISH
X-WR-CALNAME:Archiformazione
X-ORIGINAL-URL:https://archiformazione.it/shop/MB85099/
X-WR-CALDESC:[MB85099] REALIZZARE UN SITO WEB CON WORDPRESS – MODULO I
BEGIN:VEVENT
DTSTART:20200402T170000
DTEND:20200402T190000
SUMMARY:[MB85099] REALIZZARE UN SITO WEB CON WORDPRESS – MODULO I
DESCRIPTION:Wordpress e' il software piu' diffuso per la creazione di siti internet. Questo corso si propone di fornire le competenze per capire come funziona Wordpress e per poterlo correttamente installare, configurare ed effettuare le prime operazioni per la realizzazione di un sito internet/blog

<strong>PROGRAMMA</strong>:
<ul>
 	<li>Cos'e' Wordpress</li>
 	<li>Alternative a Wordpress</li>
 	<li>Installazione di Wordpress</li>
 	<li>Prima configurazione</li>
 	<li>Installare un tema</li>
 	<li>Creazione articoli e pagine</li>
 	<li>Domande &amp; Risposte</li>
</ul>
LOCATION:
END:VEVENT
END:VCALENDAR
